BEGIN:VCALENDAR
VERSION:2.0
PRODID:-//wp-events-plugin.com//6.4.10.2//EN
TZID:Asia/Tokyo
X-WR-TIMEZONE:Asia/Tokyo
BEGIN:VEVENT
UID:1@canaantokyo.com
DTSTART;TZID=Asia/Tokyo:20240710T190000
DTEND;TZID=Asia/Tokyo:20240710T200000
DTSTAMP:20240725T142016Z
URL:https://canaantokyo.com/events/7-10%ef%bc%88%e6%b0%b4%ef%bc%89%e7%84%a
 1%e6%96%99%e7%89%b9%e5%88%a5%e8%ac%9b%e6%bc%94%e4%bc%9a%e3%80%8e%e6%97%a5%
 e6%9c%ac%e8%aa%9e%e6%95%99%e8%82%b2%e6%a5%ad%e7%95%8c%e3%81%ae%e3%81%93%e3
 %82%8c/
SUMMARY:7/10（水）無料特別講演会『日本語教育業界のこれ
 からと、就職と給与』
DESCRIPTION:【スピーカー】\nカナン東京日本語学校\n校長 
 木下沢威\n\n大手インターネット関連企業にて、アカウ
 ントディレクター、プロデューサーとして\nゲーム・コ
 ンテンツの獲得営業や複数のHITタイトルの創出に関わ
 った後、\nマーケティング責任者として ジョイントベ
 ンチャーの立ち上げに参画。\n複数企業を鋭意運営しな
 がら、学校法人木下学園 理事長、カナン東京日本語学
 校 校長として活躍。\n\n【対　象】\n☑日本語教師に興
 味のある方\n☑養成講座選びを迷われている方\n☑いつ
 か海外で働きたいと考えている方\n☑社会人経験を生か
 したセカンドキャリアを探している方\n\n日本語教育業
 界って実際どうなの？\n養成講座のカウンセリングに行
 っても業界の良い話しかされないけど、本当？\n学びの
 先に必ずある「就職」、そして最も気になる日本語学
 校の「給与」について、\n学校経営者が直接語ります。
 \n教務職でも、営業職でもない、経営者から見る「日本
 語教育業界」。\nご興味のある方、疑問を解消したい方
 、是非ご参加ください！\n\n【参加方法】\nZoomを使用し
 てのオンラインイベントとなります。\n※Zoom入室URLは
 前日にお送りする予定です。\n※カメラオン・マイクミ
 ュートでのご参加をお願いします。\n【お申込み】\n申
 し込みはこちら\n\n【申込み締切】\n7月9日（火）午前11
 時00分\n※お申込みいただいた方へは、7月9日中にご案
 内メールを送信いたします。\n\n皆様からのお申込みを
 心よりお待ちしております。\nぜひお気軽にご参加くだ
 さい。\n\nご不明点はお電話（03-6555-3172）、\nまたはメ
 ール（420yousei◎canaantokyo.com）よりお問い合わせくださ
 い。\n※◎を@に変えて送信してください。
ATTACH;FMTTYPE=image/jpeg:https://canaantokyo.com/wp/wp-content/uploads/20
 24/07/01.png
LOCATION:http://a
END:VEVENT
BEGIN:VTIMEZONE
TZID:Asia/Tokyo
X-LIC-LOCATION:Asia/Tokyo
BEGIN:STANDARD
DTSTART:20230711T190000
TZOFFSETFROM:+0900
TZOFFSETTO:+0900
TZNAME:JST
END:STANDARD
END:VTIMEZONE
END:VCALENDAR