BEGIN:VCALENDAR
VERSION:2.0
PRODID:-//wp-events-plugin.com//6.4.10.2//EN
TZID:Asia/Tokyo
X-WR-TIMEZONE:Asia/Tokyo
BEGIN:VEVENT
UID:5@canaantokyo.com
DTSTART;TZID=Asia/Tokyo:20240821T190000
DTEND;TZID=Asia/Tokyo:20240821T200000
DTSTAMP:20240731T004620Z
URL:https://canaantokyo.com/events/8-21%ef%bc%88%e6%b0%b4%ef%bc%89%e7%84%a
 1%e6%96%99%e7%89%b9%e5%88%a5%e8%ac%9b%e6%bc%94%e4%bc%9a%e3%80%80%e7%9f%a5%
 e3%82%89%e3%81%aa%e3%81%8d%e3%82%83%e6%90%8d%ef%bc%81%e5%ae%9f%e9%9a%9b%e3
 %81%ab/
SUMMARY:8/21（水）無料特別講演会　知らなきゃ損！実際に
 就職した後 苦労しない日本語教師になるための『完全
 攻略 ロードマップ』
DESCRIPTION:日本語教育業界が気になっている人、\n\n苦労
 しない日本語教師になりたい人、必見。\n\n\n【日時】\n
 8月21日（水）\n\n\n【時間】\n19:00～20:00\n\n\n【参加費】\n
 無料\n\n\n【スピーカー】\nカナン東京日本語学校\n校長 
 木下沢威\n\n大手インターネット関連企業にて、アカウ
 ントディレクター、プロデューサーとして\nゲーム・コ
 ンテンツの獲得営業や複数のHITタイトルの創出に関わ
 った後、\nマーケティング責任者として ジョイントベ
 ンチャーの立ち上げに参画。\n複数企業を鋭意運営しな
 がら、学校法人木下学園 理事長、カナン東京日本語学
 校 校長として活躍。\n\n\n【対　象】\n ☑日本語教師に
 興味のある方\n ☑養成講座選びを迷われている方\n ☑
 日本語教師になる道筋が見えていない方\n ☑社会人経
 験を生かしたセカンドキャリアを探している方\n\n\n日
 本語教育業界って実際どうなの？　\n養成講座のカウン
 セリングに行っても業界の良い話しかされないけど、
 本当？　\n攻略法が無いようで、実はある、日本語教育
 業界。\n実際に就職した後に苦労しない日本語教師にな
 るためのロードマップを\n経営者自ら語ります。\n教務
 職でも、営業職でもない、経営者から見る「日本語教
 育業界」。\nご興味のある方、疑問を解消したい方、是
 非ご参加ください！\n\n\n【参加方法】\nZoomを使用して
 のオンラインイベントとなります。\n※Zoom入室URLは前
 日にお送りする予定です。\n※カメラオン・マイクミュ
 ートでのご参加をお願いします。\n\n\n【お申込み】\n申
 し込みはこちら\n\n\n【申込み締切】\n8月20日（火）午前
 11時00分\n※お申込みいただいた方へは、8月20日中にご
 案内メールを送信いたします。\n\n\n皆様からのお申込
 みを心よりお待ちしております。\nぜひお気軽にご参加
 ください。\n\n\nご不明点はお電話（03-6555-3172）、\nまた
 はメール（420yousei◎canaantokyo.com）よりお問い合わせく
 ださい。\n※◎を@に変えて送信してください。\n\n
ATTACH;FMTTYPE=image/jpeg:https://canaantokyo.com/wp/wp-content/uploads/20
 24/07/業界完全攻略-2.png
LOCATION:http://a
END:VEVENT
BEGIN:VTIMEZONE
TZID:Asia/Tokyo
X-LIC-LOCATION:Asia/Tokyo
BEGIN:STANDARD
DTSTART:20230822T190000
TZOFFSETFROM:+0900
TZOFFSETTO:+0900
TZNAME:JST
END:STANDARD
END:VTIMEZONE
END:VCALENDAR