BEGIN:VCALENDAR
VERSION:2.0
PRODID:-//wp-events-plugin.com//6.4.10.2//EN
TZID:Asia/Tokyo
X-WR-TIMEZONE:Asia/Tokyo
BEGIN:VEVENT
UID:4@canaantokyo.com
DTSTART;TZID=Asia/Tokyo:20240823T190000
DTEND;TZID=Asia/Tokyo:20240823T200000
DTSTAMP:20240809T031118Z
URL:https://canaantokyo.com/events/8-23%ef%bc%88%e9%87%91%ef%bc%89%e7%84%a
 1%e6%96%99%e3%82%a4%e3%83%99%e3%83%b3%e3%83%88%e3%80%80%e6%97%a5%e6%9c%ac%
 e8%aa%9e%e6%95%99%e5%b8%ab%e3%81%ab%e3%81%af-%e3%81%93%e3%82%8c%e3%81%8c%e
 4%bd%bf/
SUMMARY:8/23（金）無料イベント　日本語教師には これが
 使える！知ってるだけで余裕ができる『ツール紹介』
DESCRIPTION:行く学校ごとに、新しいツールの使用を求めら
 れる……\nコミュニケーションツールの使い方がイマイ
 チ分かっていない……\n\n【日時】\n8月23日（金）\n\n【
 時間】\n19:00～20:00\n\n【参加費】\n無料\n\n【講師】\nカ
 ナン東京日本語学校\n廣瀬 駿介\n＜日本語教育＞\n◎留
 学生\n大学進学、大学院進学、専門学校進学希望者\n国
 公立大合格者、早慶合格者、MARCH合格者、輩出実績あり
 \n◎プライベートレッスン\nAWS技術者、米国大使館員、
 ファッション関係者、外国籍高校生への日本語指導経
 験あり\n◎バックオフィス関連\nGASを用いた授業資料の
 作成、提出物のPDF自動生成化を実施\n教務に関する業務
 を効率化\n\nメーカー営業を経て、日本語教師に転職。\
 n国内日本語学校で留学生進学、バックオフィス業務(ICT
 導入等)を担当。\nまた高校生や社会人のプライベート
 レッスンも担当。\n\n\n【講座内容】\n・チャットツール
 (Slack\, GoogleChat 等)\n・イラスト、画像編集ツール(いら
 すとや\, Canva 等)\n・オンライン共有ツール(Googleスプレ
 ッドシート、Classroom等)\n・ChatGPT活用\n\n「ICT」という言
 葉が目立つようになり、それに伴って多くのツールが
 開発・リリースされています。\n選択肢が増えたのはい
 いことだけど、何を使ったらいいかよくわからない…
 という方も多いのではないでしょうか。\n一体どれを使
 えばいいのか、それぞれの違いは何なのか、実際に試
 用した講師がICTで活用出来得る「ツール」を比較解説
 いたします。\n\n【こんな方におすすめ】\n☑日本語教
 師として働かれている方\n☑「ツール」選びにお困りの
 方\n☑これから日本語教師として活躍したいと考えてい
 る方\n\nまずは触ってみる！が大事ですが、その前に情
 報がほしいという方はぜひご参加ください。\n※時間の
 都合上、各ツールの細かい使用方法などはお伝えでき
 ませんので予めご了承ください。\n\n【対象】\nどなた
 でもご参加いただけます。\nただし、PCは以下の環境下
 を前提としています。\n・Windows OSでの説明となります
 。\n　Mac、Chromebookの方は動作が異なりますのでご注意
 ください。\n\n【受講形態】\nZoom にてオンライン受講の
 み\n※Zoom入室URLは開講週にお送りする予定です。\n※カ
 メラON・マイクOFFでのご参加をお願いします。\n\n\n【お
 申込み】\n申し込みはこちら\n\n\n【申し込み締め切り】
 \n8/22（木）午前11時00分\n※お申込みいただいた方へは
 、8月22日中にご案内メールを送信いたします。\n\n\n皆
 様からのお申込みを心よりお待ちしております。\nぜひ
 お気軽にご参加ください。\n\nご不明点はお電話（03-6555
 -3172）、\nまたはメール（420yousei◎canaantokyo.com）よりお
 問い合わせください。\n※◎を@に変えて送信してくだ
 さい。
ATTACH;FMTTYPE=image/jpeg:https://canaantokyo.com/wp/wp-content/uploads/20
 24/08/game-3.png
LOCATION:http://a
END:VEVENT
BEGIN:VTIMEZONE
TZID:Asia/Tokyo
X-LIC-LOCATION:Asia/Tokyo
BEGIN:STANDARD
DTSTART:20230824T190000
TZOFFSETFROM:+0900
TZOFFSETTO:+0900
TZNAME:JST
END:STANDARD
END:VTIMEZONE
END:VCALENDAR