BEGIN:VCALENDAR
VERSION:2.0
PRODID:-//wp-events-plugin.com//6.4.10.2//EN
TZID:Asia/Tokyo
X-WR-TIMEZONE:Asia/Tokyo
BEGIN:VEVENT
UID:2@canaantokyo.com
DTSTART;TZID=Asia/Tokyo:20240808T190000
DTEND;TZID=Asia/Tokyo:20240808T200000
DTSTAMP:20240730T073807Z
URL:https://canaantokyo.com/events/8-8%ef%bc%88%e6%9c%a8%ef%bc%89%e7%84%a1
 %e6%96%99%e7%89%b9%e5%88%a5%e8%ac%9b%e6%bc%94%e4%bc%9a%e3%80%80%e7%8f%be%e
 5%bd%b9%e6%97%a5%e6%9c%ac%e8%aa%9e%e6%95%99%e5%b8%ab%e5%90%91%e3%81%91%ef%
 bc%81/
SUMMARY:8/8（木）無料特別講演会　現役日本語教師向け！
 『登録日本語教員になる方法』徹底解説
DESCRIPTION:【日時】\n8月8日（木）\n\n\n【時間】\n19:00～20:0
 0\n\n\n【参加費】\n無料\n\n\n【スピーカー】\nカナン東京
 日本語学校\n副校長  生方 哲男\n\n【教員養成実績】\n・
 日本語教師養成講座（主任）\n・講座開発、文化庁申請
 、講師採用、研修、eラーニング作成を指揮\n・講師採
 用と研修を担当、学習補助教材用の動画コンテンツ作
 成と出演\n\n\n\n【対　象】\n\n☑ 日本語教師に興味のあ
 る方\n☑ 登録日本語教師にどうやったらなれるのかイ
 マイチ理解できていない方\n☑ 早いうちに国家資格を
 取っておきたいと思っている方\n☑ 久しぶりの受験に
 不安を抱えている方\n\n\n\n【内容】\n「国家資格化」と
 いう単語はよく目にするけれど、\n結局自分はどうした
 ら良いのかイマイチ理解できていない。\nやらなければ
 ならないとは思っていても、自分から情報の収集をす
 る時間がない。\n受験するのであれば効率よく合格した
 いけれど、独学で挑める自信が無い。\nそんな疑問を解
 消します！ご興味のある方、是非ご参加ください！\n\n\
 n【参加方法】\nZoomを使用してのオンラインイベントと
 なります。\n※Zoom入室URLは前日にお送りする予定です
 。\n※カメラオン・マイクミュートでのご参加をお願い
 します。\n\n\n【お申込み】\n申し込みはこちら\n\n\n【申
 込み締切】\n8月7日（水）午前11時00分\n※お申込みいた
 だいた方へは、8月7日中にご案内メールを送信いたしま
 す。\n\n\n皆様からのお申込みを心よりお待ちしており
 ます。\nぜひお気軽にご参加ください。\n\n\nご不明点は
 お電話（03-6555-3172）、\nまたはメール（420yousei◎canaantok
 yo.com）よりお問い合わせください。\n※◎を@に変えて
 送信してください。
ATTACH;FMTTYPE=image/jpeg:https://canaantokyo.com/wp/wp-content/uploads/20
 24/07/日本語教師であなたはどう生きるか-1.png
LOCATION:http://a
END:VEVENT
BEGIN:VTIMEZONE
TZID:Asia/Tokyo
X-LIC-LOCATION:Asia/Tokyo
BEGIN:STANDARD
DTSTART:20230809T190000
TZOFFSETFROM:+0900
TZOFFSETTO:+0900
TZNAME:JST
END:STANDARD
END:VTIMEZONE
END:VCALENDAR