BEGIN:VCALENDAR
VERSION:2.0
PRODID:-//wp-events-plugin.com//6.4.10.2//EN
TZID:Asia/Tokyo
X-WR-TIMEZONE:Asia/Tokyo
BEGIN:VEVENT
UID:9@canaantokyo.com
DTSTART;TZID=Asia/Tokyo:20240918T190000
DTEND;TZID=Asia/Tokyo:20240918T200000
DTSTAMP:20240911T031503Z
URL:https://canaantokyo.com/events/9-18%ef%bc%88%e6%b0%b4%ef%bc%89%e7%84%a
 1%e6%96%99%e7%89%b9%e5%88%a5%e8%ac%9b%e6%bc%94%e4%bc%9a%e3%80%80%e3%80%8c%
 e8%bb%a2%e8%81%b7%e3%83%bb%e3%82%bb%e3%82%ab%e3%83%b3%e3%83%89%e3%82%ad%e3
 %83%a3/
SUMMARY:9/18（水）無料特別講演会　「転職・セカンドキャ
 リア必見！ 日本語教師で生かせるスキル！」
DESCRIPTION:日本語教育業界が気になっている人、必見。\n\
 n\n【日時】\n9月18日（水）\n\n\n【時間】\n19:00～20:00\n\n\n
 【参加費】\n無料\n\n\n【スピーカー】\nカナン東京日本
 語学校\n校長 木下沢威\n\n大手インターネット関連企業
 にて、アカウントディレクター、プロデューサーとし
 て\nゲーム・コンテンツの獲得営業や複数のHITタイトル
 の創出に関わった後、\nマーケティング責任者として 
 ジョイントベンチャーの立ち上げに参画。\n複数企業を
 鋭意運営しながら、学校法人木下学園 理事長、カナン
 東京日本語学校 校長として活躍。\n\n\n【対　象】\n ☑
 日本語教師に興味のある方\n ☑養成講座選びを迷われ
 ている方\n ☑日本語教師になる道筋が見えていない方\n
  ☑社会人経験を生かしたセカンドキャリアを探してい
 る方\n\n\n日本語教師を検討している方の中には、「ま
 ったく違う業界で…私の経験なんて…」と思っている
 方もいるかと思います。\nもちろん専門的な勉強は必要
 ですが、今まで培ったスキル・ノウハウは日本語教育
 業界でも必要とされます！\n「私の強み」を再発見し、
 日本語教育業界に参入してみませんか？\n\n\n【参加方
 法】\nZoomを使用してのオンラインイベントとなります
 。\n※Zoom入室URLは前日にお送りする予定です。\n※カメ
 ラオン・マイクミュートでのご参加をお願いします。\n
 ⇒ご都合に合わせてカメラはオフでも構いません。\n\n
 【お申込み】\n申し込みはこちら\n\n\n【申込み締切】\n9
 月17日（火）午前11時00分\n※お申込みいただいた方へは
 、9月17日中にご案内メールを送信いたします。\n\n\n皆
 様からのお申込みを心よりお待ちしております。\nぜひ
 お気軽にご参加ください。\n\n\nご不明点はお電話（03-65
 55-3172）、\nまたはメール（420yousei◎canaantokyo.com）より
 お問い合わせください。\n※◎を@に変えて送信してく
 ださい。\n\n
ATTACH;FMTTYPE=image/jpeg:https://canaantokyo.com/wp/wp-content/uploads/20
 24/09/業界完全攻略-5.png
LOCATION:http://a
END:VEVENT
BEGIN:VTIMEZONE
TZID:Asia/Tokyo
X-LIC-LOCATION:Asia/Tokyo
BEGIN:STANDARD
DTSTART:20230919T190000
TZOFFSETFROM:+0900
TZOFFSETTO:+0900
TZNAME:JST
END:STANDARD
END:VTIMEZONE
END:VCALENDAR